BEGIN:VCALENDAR
VERSION:2.0
PRODID:gruene-kv-lauenburg.de
METHOD:PUBLISH
BEGIN:VTIMEZONE
TZID:Europe/Berlin
X-LIC-LOCATION:Europe/Berlin
BEGIN:DAYLIGHT
TZOFFSETFROM:+0100
TZOFFSETTO:+0200
TZNAME:CEST
DTSTART:19700329T020000
RRULE:FREQ=YEARLY;INTERVAL=1;BYDAY=-1SU;BYMONTH=3
END:DAYLIGHT
BEGIN:STANDARD
TZOFFSETFROM:+0200
TZOFFSETTO:+0100
TZNAME:CET
DTSTART:19701025T030000
RRULE:FREQ=YEARLY;INTERVAL=1;BYDAY=-1SU;BYMONTH=10
END:STANDARD
END:VTIMEZONE
BEGIN:VEVENT
UID:194ef8ec9dd01a1f9b333ac142c46d50@gruene-kv-lauenburg.de
URL;VALUE=URI:https://gruene-kv-lauenburg.de/termine/einkaufen-per-fahrra
 d/
LOCATION:Verkaufsoffener Sonntag Mölln, Hauptstraße 53, Mölln
SUMMARY:Einkaufen per Fahrrad
DESCRIPTION;ALTREP="data:text/html,%0A%3Cfigure%20class%3D%22wp-block-ima
 ge%20size-large%22%3E%3Cimg%20src%3D%22https%3A%2F%2Fgruene-kv-lauenburg.
 de%2Fwp-content%2Fuploads%2F2025%2F06%2Ftempo30_gudower-weg-1024x576.jpg%
 22%20alt%3D%22Eine%20Frau%20f%C3%A4hrt%20mit%20dem%20Fahrrad%20auf%20dem%
 20Gudower%20Weg%20in%20M%C3%B6lln.%22%20class%3D%22wp-image-11902%22%20%2
 F%3E%3Cfigcaption%20class%3D%22wp-element-caption%22%3ETempo%2030%20im%20
 Gudower%20Weg%3A%20Besseres%20Miteinander%20f%C3%BCr%20Auto-%20und%20Fahr
 radfahrer.%3C%2Ffigcaption%3E%3C%2Ffigure%3E%0A%0A%0A%0A%3Cp%3EStand%20zu
 m%20verkaufsoffenen%20Sonntag%20in%20M%C3%B6lln.%3C%2Fp%3E%0A":Tempo 30 i
 m Gudower Weg: Besseres Miteinander für Auto- und Fahrradfahrer.\n\nStan
 d zum verkaufsoffenen Sonntag in Mölln.
CLASS:PUBLIC
DTSTART;TZID=Europe/Berlin:20260426T140000
DTEND;TZID=Europe/Berlin:20260426T180000
DTSTAMP:20260425T134408
END:VEVENT
END:VCALENDAR