BEGIN:VCALENDAR
VERSION:2.0
PRODID:gruene-kv-lauenburg.de
METHOD:PUBLISH
BEGIN:VTIMEZONE
TZID:Europe/Berlin
X-LIC-LOCATION:Europe/Berlin
BEGIN:DAYLIGHT
TZOFFSETFROM:+0100
TZOFFSETTO:+0200
TZNAME:CEST
DTSTART:19700329T020000
RRULE:FREQ=YEARLY;INTERVAL=1;BYDAY=-1SU;BYMONTH=3
END:DAYLIGHT
BEGIN:STANDARD
TZOFFSETFROM:+0200
TZOFFSETTO:+0100
TZNAME:CET
DTSTART:19701025T030000
RRULE:FREQ=YEARLY;INTERVAL=1;BYDAY=-1SU;BYMONTH=10
END:STANDARD
END:VTIMEZONE
BEGIN:VEVENT
UID:2634d79db81c66db6a887c6d7919f718@gruene-kv-lauenburg.de
URL;VALUE=URI:https://gruene-kv-lauenburg.de/termine/kreismitgliederversa
 mmlung-5/
LOCATION:BBZ Mölln, Raum C 1.02, Kerschensteinerstraße 2, 23879 Mölln
SUMMARY:Kreismitgliederversammlung
DESCRIPTION;ALTREP="data:text/html,%0A%3Cp%3E%3Cstrong%3ELiebe%20Freund%2
 Ainnen%2C%26nbsp%3B%3C%2Fstrong%3E%3C%2Fp%3E%0A%0A%0A%0A%3Cp%3Ehiermit%20
 laden%20wir%20euch%20f%C3%BCr%20die%26nbsp%3B%3Cstrong%3Ekommende%20Kreis
 mitgliederversammlung%26nbsp%3Bam%2028.04.%20um%2019%20Uhr%26nbsp%3Bim%20
 BBZ%20M%C3%B6lln%20%28Kerschensteinerstra%C3%9Fe%202%2C%2023879%20M%C3%B6
 lln%29%2C%20Veranstaltungsraum%20C%201.02%3C%2Fstrong%3E%20ein.%3C%2Fp%3E
 %0A%0A%0A%0A%3Cp%3EWir%20Gr%C3%BCne%20sind%20im%20B%C3%BCndnis%20st%C3%A4
 rker%20-%20egal%20ob%20in%20der%20Kommunalpolitik%20oder%20in%20der%20Ziv
 ilgesellschaft.%3C%2Fp%3E%0A%0A%0A%0A%3Cp%3EUnd%20insbesondere%20dann%2C%
 20wenn%20der%20Gegenwind%20so%20richtig%20von%20vorne%20bl%C3%A4st.%20Das
 %20gilt%20besonders%20f%C3%BCr%20unsere%20Freundinnen%20und%20Freunde%20i
 m%20Osten.%3C%2Fp%3E%0A%0A%0A%0A%3Cp%3EDort%20entscheiden%20die%20%3Cstro
 ng%3ELandtagswahlen%20in%20diesem%20Jahr%20%C3%BCber%20nichts%20Geringere
 s%20als%20die%20Substanz%20unserer%20Demokratie.%20%3C%2Fstrong%3EEs%20ge
 ht%20um%20die%20Frage%2C%20ob%20wir%20eine%20demokratische%20Mehrheit%20h
 alten%20oder%20ob%20zum%20ersten%20Mal%20seit%201945%20wieder%20eine%20me
 nschenverachtende%2C%20faschistische%20Kraft%20reale%20Macht%20bekommt.%2
 0%3Cstrong%3EWir%20Gr%C3%BCne%20sind%20dort%20die%20entscheidende%20Stimm
 e%20gegen%20diesen%20Bruch%20mit%20unseren%20Werten.%3C%2Fstrong%3E%3C%2F
 p%3E%0A%0A%0A%0A%3Cp%3EDeshalb%20gehen%20wir%20als%20Kreisvorstand%20vora
 n%3A%20Wir%20als%20Kreisvorstand%20m%C3%B6chten%20daher%20eine%20%3Cstron
 g%3EKreispartnerschaft%20mit%20Vorpommern-R%C3%BCgen%20%3C%2Fstrong%3Esch
 lie%C3%9Fen%3Cstrong%3E.%3C%2Fstrong%3E%20Wir%20m%C3%B6chten%20mit%20euch
 %20konkret%20unterst%C3%BCtzen%20und%20gemeinsam%20f%C3%BCr%20ein%20freie
 s%2C%20demokratisches%20MV%20k%C3%A4mpfen.%20%3Cstrong%3EPacken%20wir%20e
 s%20an.%3C%2Fstrong%3E%3C%2Fp%3E%0A%0A%0A%0A%3Cp%3EWir%20freuen%20uns%20a
 uf%20euch%21%3C%2Fp%3E%0A%0A%0A%0A%3Cp%3E%3Cstrong%3EHerzliche%20Gr%C3%BC
 %C3%9Fe%26nbsp%3B%3C%2Fstrong%3E%3C%2Fp%3E%0A%0A%0A%0A%3Cp%3E%3Cstrong%3E
 Euer%20Kreisvorstand%26nbsp%3B%3C%2Fstrong%3E%3C%2Fp%3E%0A%0A%0A%0A%3Cp%3
 EJasmin%2C%20Yannic%2C%20Wilfried%2C%20Svea%2C%20Brigit%20und%20Max%3C%2F
 p%3E%0A":Liebe Freund*innen\, \n\nhiermit laden wir euch für die komme
 nde Kreismitgliederversammlung am 28.04. um 19 Uhr im BBZ Mölln (Kersc
 hensteinerstraße 2\, 23879 Mölln)\, Veranstaltungsraum C 1.02 ein.\n\nW
 ir Grüne sind im Bündnis stärker - egal ob in der Kommunalpolitik oder
  in der Zivilgesellschaft.\n\nUnd insbesondere dann\, wenn der Gegenwind 
 so richtig von vorne bläst. Das gilt besonders für unsere Freundinnen u
 nd Freunde im Osten.\n\nDort entscheiden die Landtagswahlen in diesem Jah
 r über nichts Geringeres als die Substanz unserer Demokratie. Es geht um
  die Frage\, ob wir eine demokratische Mehrheit halten oder ob zum ersten
  Mal seit 1945 wieder eine menschenverachtende\, faschistische Kraft real
 e Macht bekommt. Wir Grüne sind dort die entscheidende Stimme gegen dies
 en Bruch mit unseren Werten.\n\nDeshalb gehen wir als Kreisvorstand voran
 : Wir als Kreisvorstand möchten daher eine Kreispartnerschaft mit Vorpom
 mern-Rügen schließen. Wir möchten mit euch konkret unterstützen und g
 emeinsam für ein freies\, demokratisches MV kämpfen. Packen wir es an.\
 n\nWir freuen uns auf euch!\n\nHerzliche Grüße \n\nEuer Kreisvorstand
  \n\nJasmin\, Yannic\, Wilfried\, Svea\, Brigit und Max
CLASS:PUBLIC
DTSTART;TZID=Europe/Berlin:20260428T190000
DTEND;TZID=Europe/Berlin:20260428T200000
DTSTAMP:20260424T145354
END:VEVENT
END:VCALENDAR