BEGIN:VCALENDAR
VERSION:2.0
PRODID:gruene-kv-lauenburg.de
METHOD:PUBLISH
BEGIN:VTIMEZONE
TZID:Europe/Berlin
X-LIC-LOCATION:Europe/Berlin
BEGIN:DAYLIGHT
TZOFFSETFROM:+0100
TZOFFSETTO:+0200
TZNAME:CEST
DTSTART:19700329T020000
RRULE:FREQ=YEARLY;INTERVAL=1;BYDAY=-1SU;BYMONTH=3
END:DAYLIGHT
BEGIN:STANDARD
TZOFFSETFROM:+0200
TZOFFSETTO:+0100
TZNAME:CET
DTSTART:19701025T030000
RRULE:FREQ=YEARLY;INTERVAL=1;BYDAY=-1SU;BYMONTH=10
END:STANDARD
END:VTIMEZONE
BEGIN:VEVENT
UID:54cf401bb8af6c4e17864884814beabb@gruene-kv-lauenburg.de
URL;VALUE=URI:https://gruene-kv-lauenburg.de/termine/treffen-des-erweiter
 ten-kreisvorstands-2/
LOCATION:Kreisgeschäftsstelle, Seestern-Pauly-Str. 1, 21493 Schwarzenbek
SUMMARY:Treffen des erweiterten Kreisvorstands
DESCRIPTION;ALTREP="data:text/html,%0A%3Cp%3EAm%20%3Cstrong%3EMittwoch%2C
 %20den%2020.%20Mai%202026%3C%2Fstrong%3E%2C%20um%20%3Cstrong%3E19%3A00%20
 Uhr%3C%2Fstrong%3E%20findet%20unser%20n%C3%A4chstes%20Treffen%20in%20der%
 20%3Cstrong%3EKreisgesch%C3%A4ftsstelle%3C%2Fstrong%3E%20statt.%3C%2Fp%3E
 %0A":Am Mittwoch\, den 20. Mai 2026\, um 19:00 Uhr findet unser nächstes
  Treffen in der Kreisgeschäftsstelle statt.
CLASS:PUBLIC
DTSTART;TZID=Europe/Berlin:20260520T190000
DTEND;TZID=Europe/Berlin:20260520T210000
DTSTAMP:20260424T132622
END:VEVENT
END:VCALENDAR