BEGIN:VCALENDAR
VERSION:2.0
PRODID:gruene-kv-lauenburg.de
METHOD:PUBLISH
BEGIN:VTIMEZONE
TZID:Europe/Berlin
X-LIC-LOCATION:Europe/Berlin
BEGIN:DAYLIGHT
TZOFFSETFROM:+0100
TZOFFSETTO:+0200
TZNAME:CEST
DTSTART:19700329T020000
RRULE:FREQ=YEARLY;INTERVAL=1;BYDAY=-1SU;BYMONTH=3
END:DAYLIGHT
BEGIN:STANDARD
TZOFFSETFROM:+0200
TZOFFSETTO:+0100
TZNAME:CET
DTSTART:19701025T030000
RRULE:FREQ=YEARLY;INTERVAL=1;BYDAY=-1SU;BYMONTH=10
END:STANDARD
END:VTIMEZONE
BEGIN:VEVENT
UID:09e77eb8cdb3c027e2d87273e71c778e@gruene-kv-lauenburg.de
URL;VALUE=URI:https://gruene-kv-lauenburg.de/termine/treffen-des-erweiter
 ten-kreisvorstands-3/
LOCATION:Kreisgeschäftsstelle, Seestern-Pauly-Str. 1, 21493 Schwarzenbek
SUMMARY:Treffen des erweiterten Kreisvorstands
DESCRIPTION;ALTREP="data:text/html,%0A%3Cp%3EAm%20%3Cstrong%3EMittwoch%2C
 %20den%2026.%20August%202026%3C%2Fstrong%3E%2C%20um%20%3Cstrong%3E19%3A00
 %20Uhr%3C%2Fstrong%3E%20findet%20unser%20n%C3%A4chstes%20Treffen%20in%20d
 er%20%3Cstrong%3EKreisgesch%C3%A4ftsstelle%3C%2Fstrong%3E%20statt.%3C%2Fp
 %3E%0A":Am Mittwoch\, den 26. August 2026\, um 19:00 Uhr findet unser nä
 chstes Treffen in der Kreisgeschäftsstelle statt.
CLASS:PUBLIC
DTSTART;TZID=Europe/Berlin:20260826T190000
DTEND;TZID=Europe/Berlin:20260826T210000
DTSTAMP:20260424T145303
END:VEVENT
END:VCALENDAR